

BEGIN:VCALENDAR
VERSION:2.0
PRODID:-//hacksw/handcal//NONSGML v1.0//EN
CALSCALE:GREGORIAN
BEGIN:VEVENT
DTEND:20170408T160000
UID:5c758eb502e73
DTSTAMP:20190227T060837
LOCATION:Donations in Kind 400 Somerville Road West Footscray 3012 VIC
DESCRIPTION:Celebrating the shipping of the 500th Container from the store an open day will be held which all Clubs will be invited to attend and see what the store has to offer. It is planned that the day will run from around 10am until 4pm with a sausage sizzle\, tea and coffee etc. The day will showcase projects based around what the store has to offer and show what can be done for not just International projects but community opportunities as well.&nbsp\;
URL;VALUE=URI:http://glenferrierotary.org.au/event/24530
SUMMARY:'Donations in Kind' Open Day
DTSTART:20170408T100000
END:VEVENT
END:VCALENDAR

