

BEGIN:VCALENDAR
VERSION:2.0
PRODID:-//hacksw/handcal//NONSGML v1.0//EN
CALSCALE:GREGORIAN
BEGIN:VEVENT
DTEND:20170611T170000
UID:5c758e2597686
DTSTAMP:20190227T060613
LOCATION:Rotary Park Rose Street Echuca 3564 VIC
DESCRIPTION:
URL;VALUE=URI:http://glenferrierotary.org.au/event/23793
SUMMARY:Rotary Showcase
DTSTART:20170611T090000
END:VEVENT
END:VCALENDAR

