

BEGIN:VCALENDAR
VERSION:2.0
PRODID:-//hacksw/handcal//NONSGML v1.0//EN
CALSCALE:GREGORIAN
BEGIN:VEVENT
DTEND:20170627T200000
UID:5c758c2bdea58
DTSTAMP:20190227T055747
LOCATION:Kooyong Lawn Tennis Club 489 Glenferrie Road Kooyong 3144 VIC
DESCRIPTION:
URL;VALUE=URI:http://glenferrierotary.org.au/event/22985
SUMMARY:Club Meeting - Changeover Night
DTSTART:20170627T183000
END:VEVENT
END:VCALENDAR

